BEGIN:VCALENDAR
VERSION:2.0
PRODID:-//www.thelcfoundation.org//NONSGML kigkonsult.se iCalcreator 2.30.1
 0//
CALSCALE:GREGORIAN
METHOD:PUBLISH
UID:75a31081-b985-47a1-a994-922df231da52
X-WR-CALDESC:
X-WR-RELCALID:9fa40f8fa4de2a3f9f422eccbe8e0323
X-WR-TIMEZONE:America/New_York
BEGIN:VTIMEZONE
TZID:America/New_York
BEGIN:STANDARD
TZNAME:EST
DTSTART:20261101T020000
TZOFFSETFROM:-0400
TZOFFSETTO:-0500
RDATE:20271107T020000
END:STANDARD
BEGIN:DAYLIGHT
TZNAME:EDT
DTSTART:20270314T020000
TZOFFSETFROM:-0500
TZOFFSETTO:-0400
RDATE:20280312T020000
END:DAYLIGHT
END:VTIMEZONE
BEGIN:VEVENT
UID:1535ff18-6bc3-421d-9dae-6fd3090295b3
DTSTAMP:20260423T112346Z
DESCRIPTION:
DTSTART;TZID=America/New_York:20270317T000000
DTEND;TZID=America/New_York:20270317T235900
LOCATION:
SUMMARY:St. Patrick's Day
END:VEVENT
END:VCALENDAR
