BEGIN:VCALENDAR
VERSION:2.0
PRODID:-//www.thelcfoundation.org//NONSGML kigkonsult.se iCalcreator 2.30.1
 0//
CALSCALE:GREGORIAN
METHOD:PUBLISH
UID:561a3031-82a5-4bc7-98e6-06def4364926
X-WR-CALDESC:
X-WR-RELCALID:1da769299ff28fba59af002b2cbbc5bf
X-WR-TIMEZONE:America/New_York
BEGIN:VTIMEZONE
TZID:America/New_York
BEGIN:STANDARD
TZNAME:EST
DTSTART:20261101T020000
TZOFFSETFROM:-0400
TZOFFSETTO:-0500
RDATE:20271107T020000
END:STANDARD
BEGIN:DAYLIGHT
TZNAME:EDT
DTSTART:20260308T020000
TZOFFSETFROM:-0500
TZOFFSETTO:-0400
RDATE:20270314T020000
RDATE:20280312T020000
END:DAYLIGHT
END:VTIMEZONE
BEGIN:VEVENT
UID:5f85a740-83e5-4444-ad97-a5d0f77cadf4
DTSTAMP:20260423T101139Z
DESCRIPTION:
DTSTART;TZID=America/New_York:20270214T000000
DTEND;TZID=America/New_York:20270214T235900
LOCATION:
SUMMARY:Valentine's Day
END:VEVENT
END:VCALENDAR
