BEGIN:VCALENDAR
VERSION:2.0
PRODID:-//www.thelcfoundation.org//NONSGML kigkonsult.se iCalcreator 2.30.1
 0//
CALSCALE:GREGORIAN
METHOD:PUBLISH
UID:03fe712f-93d4-43fb-bba8-ba2afde6c661
X-WR-CALDESC:Burnout doesn’t happen overnight and building a healthy workpl
 ace culture doesn’t either. This practical\, solutions-focused workshop is
  designed to help nonprofit leaders move beyond reactive fixes and toward 
 creating a sustainable\, year-round culture of wellness.\n\nThis session o
 ffers a clear\, realistic approach to supporting your team while staying g
 rounded in mission and budget realities.\n\nIn this workshop\, participant
 s will learn how to:\n•	Align mission\, vision\, and values to support staf
 f wellbeing\n•	Embed wellness into everyday policies and practices\n•	Place 
 the right people in the right roles\n•	Leverage total rewards beyond compen
 sation\n•	Use performance management and coaching as tools for clarity and 
 growth\n\nYou’ll leave with practical strategies\, fresh perspective\, and
  actionable next steps to strengthen your culture and sustain your team fo
 r the long term.\n\nAbout Our Speaker\nAmy Lahmers is Founder & President 
 of Flourishes Consulting\, providing HR guidance and people strategy to mi
 ssion-driven organizations. She brings more than 20 years of experience in
  higher education\, healthcare\, nonprofit leadership\, and consulting. Am
 y holds a Master of Science from Miami University and a Bachelor of Scienc
 e from The Ohio State University\, and is a Prosci-certified change manage
 ment practitioner. She also serves on the Ohio Association of Nonprofit Or
 ganizations Council of Consultants.\n
X-WR-RELCALID:6e0e52d3a1dfbd0e6ad75a07635b5ea1
X-WR-TIMEZONE:America/New_York
BEGIN:VTIMEZONE
TZID:America/New_York
BEGIN:STANDARD
TZNAME:EST
DTSTART:20251102T020000
TZOFFSETFROM:-0400
TZOFFSETTO:-0500
RDATE:20261101T020000
RDATE:20271107T020000
END:STANDARD
BEGIN:DAYLIGHT
TZNAME:EDT
DTSTART:20260308T020000
TZOFFSETFROM:-0500
TZOFFSETTO:-0400
RDATE:20270314T020000
END:DAYLIGHT
END:VTIMEZONE
BEGIN:VEVENT
UID:925db08e-95fa-4446-b436-089cbf2bf9d9
DTSTAMP:20260422T195826Z
DESCRIPTION:Burnout doesn’t happen overnight and building a healthy workpla
 ce culture doesn’t either. This practical\, solutions-focused workshop is 
 designed to help nonprofit leaders move beyond reactive fixes and toward c
 reating a sustainable\, year-round culture of wellness.\n\nThis session of
 fers a clear\, realistic approach to supporting your team while staying gr
 ounded in mission and budget realities.\n\nIn this workshop\, participants
  will learn how to:\n•	Align mission\, vision\, and values to support staff
  wellbeing\n•	Embed wellness into everyday policies and practices\n•	Place t
 he right people in the right roles\n•	Leverage total rewards beyond compens
 ation\n•	Use performance management and coaching as tools for clarity and g
 rowth\n\nYou’ll leave with practical strategies\, fresh perspective\, and 
 actionable next steps to strengthen your culture and sustain your team for
  the long term.\n\nAbout Our Speaker\nAmy Lahmers is Founder & President o
 f Flourishes Consulting\, providing HR guidance and people strategy to mis
 sion-driven organizations. She brings more than 20 years of experience in 
 higher education\, healthcare\, nonprofit leadership\, and consulting. Amy
  holds a Master of Science from Miami University and a Bachelor of Science
  from The Ohio State University\, and is a Prosci-certified change managem
 ent practitioner. She also serves on the Ohio Association of Nonprofit Org
 anizations Council of Consultants.\n
DTSTART;TZID=America/New_York:20260515T090000
DTEND;TZID=America/New_York:20260515T110000
LOCATION:Newark City Schools - West Campus (former State Farm building) \, 
 1440 Granville Street\, Newark\, OH 43055 US
SUMMARY:Building a Culture That Sustains Your Team
END:VEVENT
END:VCALENDAR
