BEGIN:VCALENDAR
VERSION:2.0
PRODID:-//www.thelcfoundation.org//NONSGML kigkonsult.se iCalcreator 2.30.1
 0//
CALSCALE:GREGORIAN
METHOD:PUBLISH
UID:0dd46177-7f02-472e-9986-3d15b0f659d8
X-WR-CALDESC:
X-WR-RELCALID:58fc973a60416b738c6e8fc0d642ecbe
X-WR-TIMEZONE:America/New_York
BEGIN:VTIMEZONE
TZID:America/New_York
BEGIN:STANDARD
TZNAME:EST
DTSTART:20251102T020000
TZOFFSETFROM:-0400
TZOFFSETTO:-0500
RDATE:20261101T020000
END:STANDARD
BEGIN:DAYLIGHT
TZNAME:EDT
DTSTART:20260308T020000
TZOFFSETFROM:-0500
TZOFFSETTO:-0400
RDATE:20270314T020000
END:DAYLIGHT
END:VTIMEZONE
BEGIN:VEVENT
UID:be64b15c-e3df-41e5-92cc-6a32d1ea88cf
DTSTAMP:20260422T194312Z
DESCRIPTION:
DTSTART;TZID=America/New_York:20260317T000000
DTEND;TZID=America/New_York:20260317T235900
LOCATION:
SUMMARY:St. Patrick's Day
END:VEVENT
END:VCALENDAR
