BEGIN:VCALENDAR
VERSION:2.0
PRODID:-//www.thelcfoundation.org//NONSGML kigkonsult.se iCalcreator 2.30.1
 0//
CALSCALE:GREGORIAN
METHOD:PUBLISH
UID:fad9dff5-9df5-42a6-8689-dd2d153591f7
X-WR-CALDESC:8:30 am - Doors open\; Registration\n9:00 am - Program begins
 \n\nJoin us to hear how front-line housing leaders turned collaboration in
 to actionable tactics to address the root causes of homelessness and creat
 e housing stability across Licking County over the next five years—and how
  you can be part of what comes next. \n\nSupported by the Housing Initiati
 ves Fund of the Licking County Foundation.
X-WR-RELCALID:7a30bf2b319b9027cececf82f7e08917
X-WR-TIMEZONE:America/New_York
BEGIN:VTIMEZONE
TZID:America/New_York
BEGIN:STANDARD
TZNAME:EST
DTSTART:20251102T020000
TZOFFSETFROM:-0400
TZOFFSETTO:-0500
RDATE:20261101T020000
END:STANDARD
BEGIN:DAYLIGHT
TZNAME:EDT
DTSTART:20260308T020000
TZOFFSETFROM:-0500
TZOFFSETTO:-0400
RDATE:20270314T020000
END:DAYLIGHT
END:VTIMEZONE
BEGIN:VEVENT
UID:43da31a5-3a29-49d5-8446-ac2f5abc7a0f
DTSTAMP:20260422T195809Z
DESCRIPTION:8:30 am - Doors open\; Registration\n9:00 am - Program begins\n
 \nJoin us to hear how front-line housing leaders turned collaboration into
  actionable tactics to address the root causes of homelessness and create 
 housing stability across Licking County over the next five years—and how y
 ou can be part of what comes next. \n\nSupported by the Housing Initiative
 s Fund of the Licking County Foundation.
DTSTART;TZID=America/New_York:20260313T090000
DTEND;TZID=America/New_York:20260313T100000
LOCATION:Doubletree by Hilton Newark\, 50 N 2nd St\, Newark\, OH 43055 US
SUMMARY:IMPACT: HOUSING - Addressing Homelessness in Licking County
END:VEVENT
END:VCALENDAR
