BEGIN:VCALENDAR
VERSION:2.0
PRODID:-//www.thelcfoundation.org//NONSGML kigkonsult.se iCalcreator 2.30.1
 0//
CALSCALE:GREGORIAN
METHOD:PUBLISH
UID:09ebc515-a141-4c7e-a4a3-4606e5b30f7a
X-WR-CALDESC:A strong board doesn’t happen by accident. Board Building Acti
 on Plan is a practical\, hands-on workshop designed to help nonprofit lead
 ers move beyond filling seats and toward building a board that truly advan
 ces their mission.\n\nThis session cuts through common challenges and prov
 ides a clear\, realistic approach to identifying\, engaging\, and recruiti
 ng the right board members—those who bring the skills\, perspectives\, and
  commitment your organization needs to thrive.\n\nIn this workshop\, parti
 cipants will learn how to:\n•	Define what effective\, healthy board governa
 nce really looks like\n•	Assess current board strengths and identify critic
 al gaps\n•	Align board composition with organizational priorities and futur
 e goals\n•	Create a step-by-step\, relationship-based recruitment plan\n•	En
 gage board members in meaningful\, mission-driven service\n\nYou’ll leave 
 with practical tools\, fresh clarity\, and an actionable plan you can put 
 to work immediately—helping your board become a stronger partner in long-t
 erm success.\n\nAbout the Speaker\nKerri Mollard is the Founder and CEO of
  Mollard Consulting and a trusted expert in nonprofit board governance\, p
 lanning\, and fundraising. Since 2003\, she has worked with nearly 200 non
 profit clients through consulting and workshops. In 2025\, her firm launch
 ed Board Building\, a board matching and training service. Kerri also serv
 es as Plain Township Trustee and holds degrees from Indiana University and
  The Ohio State University.\n
X-WR-RELCALID:9205a09c2655023303afa10903e00653
X-WR-TIMEZONE:America/New_York
BEGIN:VTIMEZONE
TZID:America/New_York
BEGIN:STANDARD
TZNAME:EST
DTSTART:20251102T020000
TZOFFSETFROM:-0400
TZOFFSETTO:-0500
RDATE:20261101T020000
END:STANDARD
BEGIN:DAYLIGHT
TZNAME:EDT
DTSTART:20250309T020000
TZOFFSETFROM:-0500
TZOFFSETTO:-0400
RDATE:20260308T020000
RDATE:20270314T020000
END:DAYLIGHT
END:VTIMEZONE
BEGIN:VEVENT
UID:9ff18f7a-dd8b-47fc-b143-6e71f3b21191
DTSTAMP:20260422T212134Z
DESCRIPTION:A strong board doesn’t happen by accident. Board Building Actio
 n Plan is a practical\, hands-on workshop designed to help nonprofit leade
 rs move beyond filling seats and toward building a board that truly advanc
 es their mission.\n\nThis session cuts through common challenges and provi
 des a clear\, realistic approach to identifying\, engaging\, and recruitin
 g the right board members—those who bring the skills\, perspectives\, and 
 commitment your organization needs to thrive.\n\nIn this workshop\, partic
 ipants will learn how to:\n•	Define what effective\, healthy board governan
 ce really looks like\n•	Assess current board strengths and identify critica
 l gaps\n•	Align board composition with organizational priorities and future
  goals\n•	Create a step-by-step\, relationship-based recruitment plan\n•	Eng
 age board members in meaningful\, mission-driven service\n\nYou’ll leave w
 ith practical tools\, fresh clarity\, and an actionable plan you can put t
 o work immediately—helping your board become a stronger partner in long-te
 rm success.\n\nAbout the Speaker\nKerri Mollard is the Founder and CEO of 
 Mollard Consulting and a trusted expert in nonprofit board governance\, pl
 anning\, and fundraising. Since 2003\, she has worked with nearly 200 nonp
 rofit clients through consulting and workshops. In 2025\, her firm launche
 d Board Building\, a board matching and training service. Kerri also serve
 s as Plain Township Trustee and holds degrees from Indiana University and 
 The Ohio State University.\n
DTSTART;TZID=America/New_York:20260227T090000
DTEND;TZID=America/New_York:20260227T110000
LOCATION:Newark City Schools - West Campus (former State Farm building) \, 
 1440 Granville Street\, Newark\, OH 43055 US
SUMMARY:Board Building Action Plan
END:VEVENT
END:VCALENDAR
