BEGIN:VCALENDAR
VERSION:2.0
PRODID:-//www.thelcfoundation.org//NONSGML kigkonsult.se iCalcreator 2.30.1
 0//
CALSCALE:GREGORIAN
METHOD:PUBLISH
UID:bd4ff8a1-620b-4bf7-84ce-8ba750dcce79
X-WR-CALDESC:
X-WR-RELCALID:a7754c73b8fb0ee225e56c7c8f6188d1
X-WR-TIMEZONE:America/New_York
BEGIN:VTIMEZONE
TZID:America/New_York
BEGIN:STANDARD
TZNAME:EST
DTSTART:20251102T020000
TZOFFSETFROM:-0400
TZOFFSETTO:-0500
RDATE:20261101T020000
END:STANDARD
BEGIN:DAYLIGHT
TZNAME:EDT
DTSTART:20250309T020000
TZOFFSETFROM:-0500
TZOFFSETTO:-0400
RDATE:20260308T020000
RDATE:20270314T020000
END:DAYLIGHT
END:VTIMEZONE
BEGIN:VEVENT
UID:222f6731-0f5f-4be7-b11d-07c2a7819902
DTSTAMP:20260422T211642Z
DESCRIPTION:
DTSTART;TZID=America/New_York:20260214T000000
DTEND;TZID=America/New_York:20260214T235900
LOCATION:
SUMMARY:Valentine's Day
END:VEVENT
END:VCALENDAR
