BEGIN:VCALENDAR
VERSION:2.0
PRODID:-//www.thelcfoundation.org//NONSGML kigkonsult.se iCalcreator 2.30.1
 0//
CALSCALE:GREGORIAN
METHOD:PUBLISH
UID:97818f23-5ef3-4701-8f85-9a2260c80e49
X-WR-CALDESC:Join us as we kick off a season of gratitude and recognize the
  generosity that strengthens our community.\n\nHear from LCF President Mik
 e Schmidt as he shares insights on learning\, leadership\, and service. Ga
 in a nonprofit leader’s perspective on the importance of creativity\, and 
 help us honor Diane DeLawder with the 2025 Everett D. Reese Award for her 
 exceptional work on behalf of Licking County youth.\n\nWe look forward to 
 celebrating with you.
X-WR-RELCALID:fa33049725efb0084184dbe0565653a6
X-WR-TIMEZONE:America/New_York
BEGIN:VTIMEZONE
TZID:America/New_York
BEGIN:STANDARD
TZNAME:EST
DTSTART:20251102T020000
TZOFFSETFROM:-0400
TZOFFSETTO:-0500
RDATE:20261101T020000
END:STANDARD
BEGIN:DAYLIGHT
TZNAME:EDT
DTSTART:20250309T020000
TZOFFSETFROM:-0500
TZOFFSETTO:-0400
RDATE:20260308T020000
RDATE:20270314T020000
END:DAYLIGHT
END:VTIMEZONE
BEGIN:VEVENT
UID:4b6db73d-ca17-45c6-bf90-8740ffa0ae87
DTSTAMP:20260423T014755Z
DESCRIPTION:Join us as we kick off a season of gratitude and recognize the 
 generosity that strengthens our community.\n\nHear from LCF President Mike
  Schmidt as he shares insights on learning\, leadership\, and service. Gai
 n a nonprofit leader’s perspective on the importance of creativity\, and h
 elp us honor Diane DeLawder with the 2025 Everett D. Reese Award for her e
 xceptional work on behalf of Licking County youth.\n\nWe look forward to c
 elebrating with you.
DTSTART;TZID=America/New_York:20251106T113000
DTEND;TZID=America/New_York:20251106T133000
LOCATION:Cherry Valley Hotel \, 2299 Cherry Valley Rd\, SE\, Newark\, OH 43
 055 US
SUMMARY:A Celebration of Giving!
END:VEVENT
END:VCALENDAR
