BEGIN:VCALENDAR
VERSION:2.0
PRODID:-//www.thelcfoundation.org//NONSGML kigkonsult.se iCalcreator 2.30.1
 0//
CALSCALE:GREGORIAN
METHOD:PUBLISH
UID:20ebeb14-0a32-49ed-b7a9-c1f997dbb99d
X-WR-CALDESC:After more than a decade of hard work\, vision\, and steadfast
  support from donors like you\, the iconic Louis Sullivan Building of Newa
 rk is ready to begin a bold new chapter.\nExactly 110 years to the day aft
 er its original opening\, this national treasure will reopen as the new ho
 me of Explore Licking County\, a vibrant tourism hub and public space for 
 all.\nBefore we open the doors to the public\, we’re thrilled to invite ou
 r most dedicated supporters to an exclusive celebration and first look ins
 ide the restored building.\n\nStart Location\nHistoric Newark Arcade (just
  steps from the Sullivan Building)\nBegin your experience at the beautiful
 ly restored Newark Arcade\, where you’ll enjoy:\n- Light hors d’oeuvres an
 d refreshments\n- Live music from members of the Land of Legend Barbershop
  Chorus\n- A chance to add your wishes to a special time capsule\n- Mingli
 ng and celebration with other donors\, volunteers\, and community leaders
 \nFrom there\, guests will be escorted in small groups every 20 minutes to
  tour the restored Louis Sullivan Building — giving you a first glimpse be
 fore it opens to the public the next day.
X-WR-RELCALID:6abc96c39fa340bb52d510064108ebf3
X-WR-TIMEZONE:America/New_York
BEGIN:VTIMEZONE
TZID:America/New_York
BEGIN:STANDARD
TZNAME:EST
DTSTART:20241103T020000
TZOFFSETFROM:-0400
TZOFFSETTO:-0500
RDATE:20251102T020000
RDATE:20261101T020000
END:STANDARD
BEGIN:DAYLIGHT
TZNAME:EDT
DTSTART:20250309T020000
TZOFFSETFROM:-0500
TZOFFSETTO:-0400
RDATE:20260308T020000
RDATE:20270314T020000
END:DAYLIGHT
END:VTIMEZONE
BEGIN:VEVENT
UID:c97ca670-0400-46b9-9df2-dc141fd95cef
DTSTAMP:20260423T032844Z
DESCRIPTION:After more than a decade of hard work\, vision\, and steadfast 
 support from donors like you\, the iconic Louis Sullivan Building of Newar
 k is ready to begin a bold new chapter.\nExactly 110 years to the day afte
 r its original opening\, this national treasure will reopen as the new hom
 e of Explore Licking County\, a vibrant tourism hub and public space for a
 ll.\nBefore we open the doors to the public\, we’re thrilled to invite our
  most dedicated supporters to an exclusive celebration and first look insi
 de the restored building.\n\nStart Location\nHistoric Newark Arcade (just 
 steps from the Sullivan Building)\nBegin your experience at the beautifull
 y restored Newark Arcade\, where you’ll enjoy:\n- Light hors d’oeuvres and
  refreshments\n- Live music from members of the Land of Legend Barbershop 
 Chorus\n- A chance to add your wishes to a special time capsule\n- Minglin
 g and celebration with other donors\, volunteers\, and community leaders\n
 From there\, guests will be escorted in small groups every 20 minutes to t
 our the restored Louis Sullivan Building — giving you a first glimpse befo
 re it opens to the public the next day.
DTSTART;TZID=America/New_York:20251026T120000
DTEND;TZID=America/New_York:20251026T160000
LOCATION:Louis Sullivan Building of Newark / Historic Newark Arcade\, 1 N T
 hird St\, Newark\, OH 43055 US
SUMMARY:Louis Sullivan Building First Look!
END:VEVENT
END:VCALENDAR
