BEGIN:VCALENDAR
VERSION:2.0
PRODID:-//www.thelcfoundation.org//NONSGML kigkonsult.se iCalcreator 2.30.1
 0//
CALSCALE:GREGORIAN
METHOD:PUBLISH
UID:0a255251-54c1-42ee-aa87-057ce48e1381
X-WR-CALDESC:Join us for a special thank you and preview event at the newly
  restored Louis Sullivan Building of Newark\n\nEnjoy coffee and breakfast 
 pastries as we celebrate this exciting milestone and express our heartfelt
  appreciate to the friends and volunteers who have supported this wonderfu
 l transformation.
X-WR-RELCALID:d2bbe21e7caf74179cf8d5a431cb18e6
X-WR-TIMEZONE:America/New_York
BEGIN:VTIMEZONE
TZID:America/New_York
BEGIN:STANDARD
TZNAME:EST
DTSTART:20241103T020000
TZOFFSETFROM:-0400
TZOFFSETTO:-0500
RDATE:20251102T020000
RDATE:20261101T020000
END:STANDARD
BEGIN:DAYLIGHT
TZNAME:EDT
DTSTART:20250309T020000
TZOFFSETFROM:-0500
TZOFFSETTO:-0400
RDATE:20260308T020000
RDATE:20270314T020000
END:DAYLIGHT
END:VTIMEZONE
BEGIN:VEVENT
UID:3ee1cca0-6281-43a6-a95c-c6889323d5f2
DTSTAMP:20260423T033150Z
DESCRIPTION:Join us for a special thank you and preview event at the newly 
 restored Louis Sullivan Building of Newark\n\nEnjoy coffee and breakfast p
 astries as we celebrate this exciting milestone and express our heartfelt 
 appreciate to the friends and volunteers who have supported this wonderful
  transformation.
DTSTART;TZID=America/New_York:20251022T100000
DTEND;TZID=America/New_York:20251022T110000
LOCATION:Louis Sullivan Building of Newark\, 1 N Third St\, Newark\, OH 430
 55 US
SUMMARY:Louis Sullivan Building Friends and Volunteer Preview
END:VEVENT
END:VCALENDAR
