BEGIN:VCALENDAR
VERSION:2.0
PRODID:-//www.thelcfoundation.org//NONSGML kigkonsult.se iCalcreator 2.30.1
 0//
CALSCALE:GREGORIAN
METHOD:PUBLISH
UID:d1faa570-97d2-4a9e-b410-7ae86904b474
X-WR-CALDESC:First impressions matter. Are your marketing materials communi
 cating your brand effectively? Join us for an interactive workshop for non
 profits looking to elevate their organization’s visual presence.\n\nWhethe
 r you’re working on social media graphics\, event flyers\, e-blasts or pre
 sentations – Canva simplifies digital design for a professional look witho
 ut needing extensive graphic design skills. It is a user-friendly design p
 rogram that can help bring your ideas to life.\n\nThis session will help a
 ttendees with the following:\n• Understanding the fundamental capabilities
  and features of Canva\n• Strategies for maintaining brand-consistent desi
 gns and templates\n• Creating eye-catching designs with Canva’s easy-to-us
 e interface through interactive demonstrations\n• Time-saving best practic
 es to streamline your design process\n\nThis is a hands-on workshop\, so y
 ou will need to bring a laptop or tablet and login details for your Canva 
 Pro account. Canva Pro is free for registered nonprofits – please visit Ca
 nva.com to set up a free account for your organization prior to this works
 hop.\n\nABOUT OUR PRESENTERS\nLizzy Muzzy is a graphic designer at Inspire
  PR Group with a background in branding\, marketing and illustration. She 
 has worked on advertising and marketing campaigns with a diverse range of 
 clients from across the country. She also has experience in web design and
  designing for social media\n\nNatalie Isaacs is a senior design associate
  at Inspire PR Group with experience in digital and print design\, informa
 tion graphics\, web design\, UX design\, photography\, video and social me
 dia. Prior to joining Inspire\, she was the digital marketing coordinator 
 and in-house designer at Crimson Design Group\, where she supported campai
 gns through digital platforms including social media\, newsletters and blo
 gs.\n
X-WR-RELCALID:bd2c0506434ffe23298e2252ee510951
X-WR-TIMEZONE:America/New_York
BEGIN:VTIMEZONE
TZID:America/New_York
BEGIN:STANDARD
TZNAME:EST
DTSTART:20241103T020000
TZOFFSETFROM:-0400
TZOFFSETTO:-0500
RDATE:20251102T020000
RDATE:20261101T020000
END:STANDARD
BEGIN:DAYLIGHT
TZNAME:EDT
DTSTART:20250309T020000
TZOFFSETFROM:-0500
TZOFFSETTO:-0400
RDATE:20260308T020000
RDATE:20270314T020000
END:DAYLIGHT
END:VTIMEZONE
BEGIN:VEVENT
UID:6ee8df60-856b-4f3c-807b-dfcac028a4f9
DTSTAMP:20260423T031106Z
DESCRIPTION:First impressions matter. Are your marketing materials communic
 ating your brand effectively? Join us for an interactive workshop for nonp
 rofits looking to elevate their organization’s visual presence.\n\nWhether
  you’re working on social media graphics\, event flyers\, e-blasts or pres
 entations – Canva simplifies digital design for a professional look withou
 t needing extensive graphic design skills. It is a user-friendly design pr
 ogram that can help bring your ideas to life.\n\nThis session will help at
 tendees with the following:\n• Understanding the fundamental capabilities 
 and features of Canva\n• Strategies for maintaining brand-consistent desig
 ns and templates\n• Creating eye-catching designs with Canva’s easy-to-use
  interface through interactive demonstrations\n• Time-saving best practice
 s to streamline your design process\n\nThis is a hands-on workshop\, so yo
 u will need to bring a laptop or tablet and login details for your Canva P
 ro account. Canva Pro is free for registered nonprofits – please visit Can
 va.com to set up a free account for your organization prior to this worksh
 op.\n\nABOUT OUR PRESENTERS\nLizzy Muzzy is a graphic designer at Inspire 
 PR Group with a background in branding\, marketing and illustration. She h
 as worked on advertising and marketing campaigns with a diverse range of c
 lients from across the country. She also has experience in web design and 
 designing for social media\n\nNatalie Isaacs is a senior design associate 
 at Inspire PR Group with experience in digital and print design\, informat
 ion graphics\, web design\, UX design\, photography\, video and social med
 ia. Prior to joining Inspire\, she was the digital marketing coordinator a
 nd in-house designer at Crimson Design Group\, where she supported campaig
 ns through digital platforms including social media\, newsletters and blog
 s.\n
DTSTART;TZID=America/New_York:20251003T090000
DTEND;TZID=America/New_York:20251003T110000
LOCATION:Newark City Schools - West Campus (former State Farm building) \, 
 1440 Granville St\, Newark\, OH 43055 US
SUMMARY:Canva 101: Elevating Your Nonprofit's Visual Impact - TAKE TWO!
END:VEVENT
END:VCALENDAR
